BEGIN:VCALENDAR
VERSION:2.0
PRODID:-//Drupal//recurring_events_ical//2.0//EN
BEGIN:VEVENT
UID:20e3368d-7ad2-439e-a16e-555999e33426@das-atico.de
DTSTAMP:20260323T094214Z
DTSTART:20260808T060000Z
DTEND:20260808T061500Z
SUMMARY:Unterrichtsfreie Zeit
END:VEVENT
END:VCALENDAR