BEGIN:VCALENDAR
VERSION:2.0
PRODID:-//Drupal//recurring_events_ical//2.0//EN
BEGIN:VEVENT
UID:eea19227-6813-47f1-9062-540a7a53977d@das-atico.de
DTSTAMP:20260323T094214Z
DTSTART:20260807T060000Z
DTEND:20260807T061500Z
SUMMARY:Unterrichtsfreie Zeit
END:VEVENT
END:VCALENDAR