BEGIN:VCALENDAR
VERSION:2.0
PRODID:-//Drupal//recurring_events_ical//2.0//EN
BEGIN:VEVENT
UID:b174b7e8-a17b-4670-a43c-3ef2872eeee2@das-atico.de
DTSTAMP:20260323T094214Z
DTSTART:20260805T060000Z
DTEND:20260805T061500Z
SUMMARY:Unterrichtsfreie Zeit
END:VEVENT
END:VCALENDAR