BEGIN:VCALENDAR
VERSION:2.0
PRODID:-//Drupal//recurring_events_ical//2.0//EN
BEGIN:VEVENT
UID:6294f273-d89f-4a2a-8179-3edb3df34242@das-atico.de
DTSTAMP:20260323T094214Z
DTSTART:20260804T060000Z
DTEND:20260804T061500Z
SUMMARY:Unterrichtsfreie Zeit
END:VEVENT
END:VCALENDAR