BEGIN:VCALENDAR
VERSION:2.0
PRODID:-//Drupal//recurring_events_ical//2.0//EN
BEGIN:VEVENT
UID:30f5550e-19de-4458-b0fe-3a6045d86062@das-atico.de
DTSTAMP:20260323T094214Z
DTSTART:20260801T060000Z
DTEND:20260801T061500Z
SUMMARY:Unterrichtsfreie Zeit
END:VEVENT
END:VCALENDAR