BEGIN:VCALENDAR
VERSION:2.0
PRODID:-//Drupal//recurring_events_ical//2.0//EN
BEGIN:VEVENT
UID:3028e8a1-447a-48f7-a5df-1b6524779981@das-atico.de
DTSTAMP:20260323T094214Z
DTSTART:20260730T060000Z
DTEND:20260730T061500Z
SUMMARY:Unterrichtsfreie Zeit
END:VEVENT
END:VCALENDAR