BEGIN:VCALENDAR
VERSION:2.0
PRODID:-//Drupal//recurring_events_ical//2.0//EN
BEGIN:VEVENT
UID:6368251d-d654-4ac3-9d5c-a04576e51325@das-atico.de
DTSTAMP:20260323T094214Z
DTSTART:20260729T060000Z
DTEND:20260729T061500Z
SUMMARY:Unterrichtsfreie Zeit
END:VEVENT
END:VCALENDAR