BEGIN:VCALENDAR
VERSION:2.0
PRODID:-//Drupal//recurring_events_ical//2.0//EN
BEGIN:VEVENT
UID:ad1a6422-8097-4bc8-be9c-f1ad1273afb4@das-atico.de
DTSTAMP:20260323T094214Z
DTSTART:20260728T060000Z
DTEND:20260728T061500Z
SUMMARY:Unterrichtsfreie Zeit
END:VEVENT
END:VCALENDAR