BEGIN:VCALENDAR
VERSION:2.0
PRODID:-//Drupal//recurring_events_ical//2.0//EN
BEGIN:VEVENT
UID:8836239e-5b50-41bf-bdd0-5ac5331e4d88@das-atico.de
DTSTAMP:20260323T094214Z
DTSTART:20260726T060000Z
DTEND:20260726T061500Z
SUMMARY:Unterrichtsfreie Zeit
END:VEVENT
END:VCALENDAR