BEGIN:VCALENDAR
VERSION:2.0
PRODID:-//Drupal//recurring_events_ical//2.0//EN
BEGIN:VEVENT
UID:ae519c6d-8f2d-4d15-87b9-06747c023957@das-atico.de
DTSTAMP:20260323T094214Z
DTSTART:20260724T060000Z
DTEND:20260724T061500Z
SUMMARY:Unterrichtsfreie Zeit
END:VEVENT
END:VCALENDAR