BEGIN:VCALENDAR
VERSION:2.0
PRODID:-//Drupal//recurring_events_ical//2.0//EN
BEGIN:VEVENT
UID:22479254-c39f-42df-bd63-3a477e2ff3f9@das-atico.de
DTSTAMP:20260323T094214Z
DTSTART:20260720T060000Z
DTEND:20260720T061500Z
SUMMARY:Unterrichtsfreie Zeit
END:VEVENT
END:VCALENDAR