BEGIN:VCALENDAR
VERSION:2.0
PRODID:-//Drupal//recurring_events_ical//2.0//EN
BEGIN:VEVENT
UID:73032994-30c8-45de-a775-cfdcb8fd0490@das-atico.de
DTSTAMP:20260323T083030Z
DTSTART:20261017T080000Z
DTEND:20261017T110000Z
SUMMARY:Tango Anfänger Workshop
END:VEVENT
END:VCALENDAR