BEGIN:VCALENDAR
VERSION:2.0
PRODID:-//Drupal//recurring_events_ical//2.0//EN
BEGIN:VEVENT
UID:64d12afe-5e2a-4af7-b575-c908a8755877@das-atico.de
DTSTAMP:20260323T083030Z
DTSTART:20260627T130000Z
DTEND:20260627T160000Z
SUMMARY:Tango Anfänger Workshop
END:VEVENT
END:VCALENDAR