BEGIN:VCALENDAR
VERSION:2.0
PRODID:-//Drupal//recurring_events_ical//2.0//EN
BEGIN:VEVENT
UID:0796f96d-14be-4e26-8383-79114fcb4124@das-atico.de
DTSTAMP:20260323T083030Z
DTSTART:20260502T080000Z
DTEND:20260502T110000Z
SUMMARY:Tango Anfänger Workshop
END:VEVENT
END:VCALENDAR