BEGIN:VCALENDAR
VERSION:2.0
PRODID:-//Drupal//recurring_events_ical//2.0//EN
BEGIN:VEVENT
UID:ba17d6b5-9fd8-414b-bb48-e8befed97690@das-atico.de
DTSTAMP:20260205T155811Z
DTSTART:20261106T183000Z
DTEND:20261106T225900Z
SUMMARY:noNeO
END:VEVENT
END:VCALENDAR