BEGIN:VCALENDAR
VERSION:2.0
PRODID:-//Drupal//recurring_events_ical//2.0//EN
BEGIN:VEVENT
UID:592e35ec-5a29-40ca-83c5-cd2e6e800884@das-atico.de
DTSTAMP:20260205T155811Z
DTSTART:20260904T173000Z
DTEND:20260904T215900Z
SUMMARY:noNeO
END:VEVENT
END:VCALENDAR