BEGIN:VCALENDAR
VERSION:2.0
PRODID:-//Drupal//recurring_events_ical//2.0//EN
BEGIN:VEVENT
UID:c606394d-d560-4ef8-ac3f-883e3abbd845@das-atico.de
DTSTAMP:20260205T155811Z
DTSTART:20260703T173000Z
DTEND:20260703T215900Z
SUMMARY:noNeO
END:VEVENT
END:VCALENDAR