BEGIN:VCALENDAR
VERSION:2.0
PRODID:-//Drupal//recurring_events_ical//2.0//EN
BEGIN:VEVENT
UID:e97b1c05-1387-4021-ba7a-87a84ab69151@das-atico.de
DTSTAMP:20260113T195308Z
DTSTART:20260515T180000Z
DTEND:20260515T220000Z
SUMMARY:¡VAMOS!
END:VEVENT
END:VCALENDAR