BEGIN:VCALENDAR
VERSION:2.0
PRODID:-//Drupal//recurring_events_ical//2.0//EN
BEGIN:VEVENT
UID:6efd5f8c-1b59-4a2f-bcfa-3f6234d21c76@das-atico.de
DTSTAMP:20260102T065959Z
DTSTART:20260512T180000Z
DTEND:20260512T200000Z
SUMMARY:Salsa und Bachata
END:VEVENT
END:VCALENDAR