BEGIN:VCALENDAR
VERSION:2.0
PRODID:-//Drupal//recurring_events_ical//2.0//EN
BEGIN:VEVENT
UID:279ed346-b8b8-4af4-a57f-f4499254390f@das-atico.de
DTSTAMP:20260102T065959Z
DTSTART:20260505T180000Z
DTEND:20260505T200000Z
SUMMARY:Salsa und Bachata
END:VEVENT
END:VCALENDAR