BEGIN:VCALENDAR
VERSION:2.0
PRODID:-//Drupal//recurring_events_ical//2.0//EN
BEGIN:VEVENT
UID:e114d789-6f56-4ca5-8250-ffc469a19837@das-atico.de
DTSTAMP:20260102T065959Z
DTSTART:20260414T180000Z
DTEND:20260414T200000Z
SUMMARY:Salsa und Bachata
END:VEVENT
END:VCALENDAR