BEGIN:VCALENDAR
VERSION:2.0
PRODID:-//Drupal//recurring_events_ical//2.0//EN
BEGIN:VEVENT
UID:5ba0de24-dd43-4143-800f-5f7e110101cb@das-atico.de
DTSTAMP:20260102T065959Z
DTSTART:20260407T180000Z
DTEND:20260407T200000Z
SUMMARY:Salsa und Bachata
END:VEVENT
END:VCALENDAR