BEGIN:VCALENDAR
VERSION:2.0
PRODID:-//Drupal//recurring_events_ical//2.0//EN
BEGIN:VEVENT
UID:9db5e798-4347-4250-9736-cfc416dd2775@das-atico.de
DTSTAMP:20260102T065959Z
DTSTART:20260331T180000Z
DTEND:20260331T200000Z
SUMMARY:Salsa und Bachata
END:VEVENT
END:VCALENDAR