BEGIN:VCALENDAR
VERSION:2.0
PRODID:-//Drupal//recurring_events_ical//2.0//EN
BEGIN:VEVENT
UID:d030a601-3b5f-4cb2-817f-74d8a7a78101@das-atico.de
DTSTAMP:20251215T133404Z
DTSTART:20260513T170000Z
DTEND:20260513T180000Z
SUMMARY:Tango I am Mittwoch
DESCRIPTION:Für Einsteiger und Mittelstufe
URL:http://das-atico.de/events/2115
END:VEVENT
END:VCALENDAR