BEGIN:VCALENDAR
VERSION:2.0
PRODID:-//Drupal//recurring_events_ical//2.0//EN
BEGIN:VEVENT
UID:ed8e996e-1e7f-4236-b7df-71b284e700eb@das-atico.de
DTSTAMP:20251215T133404Z
DTSTART:20260506T170000Z
DTEND:20260506T180000Z
SUMMARY:Tango I am Mittwoch
DESCRIPTION:Für Einsteiger und Mittelstufe
URL:http://das-atico.de/events/2114
END:VEVENT
END:VCALENDAR