BEGIN:VCALENDAR
VERSION:2.0
PRODID:-//Drupal//recurring_events_ical//2.0//EN
BEGIN:VEVENT
UID:773c7884-1423-4d6c-9838-a9bad2ec5d40@das-atico.de
DTSTAMP:20251215T133404Z
DTSTART:20260429T170000Z
DTEND:20260429T180000Z
SUMMARY:Tango I am Mittwoch
DESCRIPTION:Für Einsteiger und Mittelstufe
URL:http://das-atico.de/events/2113
END:VEVENT
END:VCALENDAR