BEGIN:VCALENDAR
VERSION:2.0
PRODID:-//Drupal//recurring_events_ical//2.0//EN
BEGIN:VEVENT
UID:80bf33f1-6b62-4868-af39-e2fb19be6892@das-atico.de
DTSTAMP:20251215T133404Z
DTSTART:20260422T170000Z
DTEND:20260422T180000Z
SUMMARY:Tango I am Mittwoch
DESCRIPTION:Für Einsteiger und Mittelstufe
URL:http://das-atico.de/events/2112
END:VEVENT
END:VCALENDAR