BEGIN:VCALENDAR
VERSION:2.0
PRODID:-//Drupal//recurring_events_ical//2.0//EN
BEGIN:VEVENT
UID:9b071a6b-5b92-4ee4-a334-377b2abc574b@das-atico.de
DTSTAMP:20251215T133404Z
DTSTART:20260415T170000Z
DTEND:20260415T180000Z
SUMMARY:Tango I am Mittwoch
DESCRIPTION:Für Einsteiger und Mittelstufe
URL:http://das-atico.de/events/2111
END:VEVENT
END:VCALENDAR