BEGIN:VCALENDAR
VERSION:2.0
PRODID:-//Drupal//recurring_events_ical//2.0//EN
BEGIN:VEVENT
UID:ad150d33-1b5e-47b7-8e6e-49a857505914@das-atico.de
DTSTAMP:20251215T133404Z
DTSTART:20260408T170000Z
DTEND:20260408T180000Z
SUMMARY:Tango I am Mittwoch
DESCRIPTION:Für Einsteiger und Mittelstufe
URL:http://das-atico.de/events/2110
END:VEVENT
END:VCALENDAR