BEGIN:VCALENDAR
VERSION:2.0
PRODID:-//Drupal//recurring_events_ical//2.0//EN
BEGIN:VEVENT
UID:27631f6d-756a-4701-93d6-8b1de44cd34d@das-atico.de
DTSTAMP:20251215T133404Z
DTSTART:20260401T170000Z
DTEND:20260401T180000Z
SUMMARY:Tango I am Mittwoch
DESCRIPTION:Für Einsteiger und Mittelstufe
URL:http://das-atico.de/events/2109
END:VEVENT
END:VCALENDAR