BEGIN:VCALENDAR
VERSION:2.0
PRODID:-//Drupal//recurring_events_ical//2.0//EN
BEGIN:VEVENT
UID:92585364-dce3-4d2f-9d14-813d52bbca3b@das-atico.de
DTSTAMP:20251215T133240Z
DTSTART:20260513T183000Z
DTEND:20260513T193000Z
SUMMARY:Tango II am Mittwoch
DESCRIPTION:Für Mittelstufe und Fortgeschrittene
URL:http://das-atico.de/events/2066
END:VEVENT
END:VCALENDAR