BEGIN:VCALENDAR
VERSION:2.0
PRODID:-//Drupal//recurring_events_ical//2.0//EN
BEGIN:VEVENT
UID:bcd78532-15e8-496b-b27c-fd1eef4af975@das-atico.de
DTSTAMP:20251215T133240Z
DTSTART:20260506T183000Z
DTEND:20260506T193000Z
SUMMARY:Tango II am Mittwoch
DESCRIPTION:Für Mittelstufe und Fortgeschrittene
URL:http://das-atico.de/events/2065
END:VEVENT
END:VCALENDAR