BEGIN:VCALENDAR
VERSION:2.0
PRODID:-//Drupal//recurring_events_ical//2.0//EN
BEGIN:VEVENT
UID:1a3a41d0-ecbb-41c0-9eba-a7a1961452de@das-atico.de
DTSTAMP:20251215T133240Z
DTSTART:20260429T183000Z
DTEND:20260429T193000Z
SUMMARY:Tango II am Mittwoch
DESCRIPTION:Für Mittelstufe und Fortgeschrittene
URL:http://das-atico.de/events/2064
END:VEVENT
END:VCALENDAR