BEGIN:VCALENDAR
VERSION:2.0
PRODID:-//Drupal//recurring_events_ical//2.0//EN
BEGIN:VEVENT
UID:b704d7e7-c63a-4af7-bda8-c004253c56e7@das-atico.de
DTSTAMP:20251215T133240Z
DTSTART:20260422T183000Z
DTEND:20260422T193000Z
SUMMARY:Tango II am Mittwoch
DESCRIPTION:Für Mittelstufe und Fortgeschrittene
URL:http://das-atico.de/events/2063
END:VEVENT
END:VCALENDAR