BEGIN:VCALENDAR
VERSION:2.0
PRODID:-//Drupal//recurring_events_ical//2.0//EN
BEGIN:VEVENT
UID:7c174172-b0c5-42c8-b49c-41dd39dbc25b@das-atico.de
DTSTAMP:20251215T133240Z
DTSTART:20260415T183000Z
DTEND:20260415T193000Z
SUMMARY:Tango II am Mittwoch
DESCRIPTION:Für Mittelstufe und Fortgeschrittene
URL:http://das-atico.de/events/2062
END:VEVENT
END:VCALENDAR