BEGIN:VCALENDAR
VERSION:2.0
PRODID:-//Drupal//recurring_events_ical//2.0//EN
BEGIN:VEVENT
UID:39fe3283-6a56-4f0d-aa2c-a35a9689e753@das-atico.de
DTSTAMP:20251215T133240Z
DTSTART:20260408T183000Z
DTEND:20260408T193000Z
SUMMARY:Tango II am Mittwoch
DESCRIPTION:Für Mittelstufe und Fortgeschrittene
URL:http://das-atico.de/events/2061
END:VEVENT
END:VCALENDAR