BEGIN:VCALENDAR
VERSION:2.0
PRODID:-//Drupal//recurring_events_ical//2.0//EN
BEGIN:VEVENT
UID:ffb9631a-5934-46ae-829b-d1e59899c7dc@das-atico.de
DTSTAMP:20251215T133240Z
DTSTART:20260401T183000Z
DTEND:20260401T193000Z
SUMMARY:Tango II am Mittwoch
DESCRIPTION:Für Mittelstufe und Fortgeschrittene
URL:http://das-atico.de/events/2060
END:VEVENT
END:VCALENDAR