BEGIN:VCALENDAR
VERSION:2.0
PRODID:-//Drupal//recurring_events_ical//2.0//EN
BEGIN:VEVENT
UID:1084cc60-68be-4651-a364-a4151660815e@das-atico.de
DTSTAMP:20251215T133112Z
DTSTART:20260513T180000Z
DTEND:20260513T183000Z
SUMMARY:Praktika am Mittwoch
DESCRIPTION:Freies Tanzen mit Unterstützung der Lehrenden
URL:http://das-atico.de/events/2017
END:VEVENT
END:VCALENDAR