BEGIN:VCALENDAR
VERSION:2.0
PRODID:-//Drupal//recurring_events_ical//2.0//EN
BEGIN:VEVENT
UID:7a24dbcc-12c8-4c77-81f9-643642f4b829@das-atico.de
DTSTAMP:20251215T133112Z
DTSTART:20260506T180000Z
DTEND:20260506T183000Z
SUMMARY:Praktika am Mittwoch
DESCRIPTION:Freies Tanzen mit Unterstützung der Lehrenden
URL:http://das-atico.de/events/2016
END:VEVENT
END:VCALENDAR