BEGIN:VCALENDAR
VERSION:2.0
PRODID:-//Drupal//recurring_events_ical//2.0//EN
BEGIN:VEVENT
UID:90a0e58f-2856-46e4-b7ec-84c87636f670@das-atico.de
DTSTAMP:20251215T133112Z
DTSTART:20260429T180000Z
DTEND:20260429T183000Z
SUMMARY:Praktika am Mittwoch
DESCRIPTION:Freies Tanzen mit Unterstützung der Lehrenden
URL:http://das-atico.de/events/2015
END:VEVENT
END:VCALENDAR