BEGIN:VCALENDAR
VERSION:2.0
PRODID:-//Drupal//recurring_events_ical//2.0//EN
BEGIN:VEVENT
UID:374061dd-13ea-41ff-bb38-32927586b231@das-atico.de
DTSTAMP:20251215T133112Z
DTSTART:20260422T180000Z
DTEND:20260422T183000Z
SUMMARY:Praktika am Mittwoch
DESCRIPTION:Freies Tanzen mit Unterstützung der Lehrenden
URL:http://das-atico.de/events/2014
END:VEVENT
END:VCALENDAR