BEGIN:VCALENDAR
VERSION:2.0
PRODID:-//Drupal//recurring_events_ical//2.0//EN
BEGIN:VEVENT
UID:e88e046b-8c05-41fc-b36b-8dbe947b16ff@das-atico.de
DTSTAMP:20251215T133112Z
DTSTART:20260415T180000Z
DTEND:20260415T183000Z
SUMMARY:Praktika am Mittwoch
DESCRIPTION:Freies Tanzen mit Unterstützung der Lehrenden
URL:http://das-atico.de/events/2013
END:VEVENT
END:VCALENDAR