BEGIN:VCALENDAR
VERSION:2.0
PRODID:-//Drupal//recurring_events_ical//2.0//EN
BEGIN:VEVENT
UID:42bc435c-5247-4c63-9d4c-fd8abb25d414@das-atico.de
DTSTAMP:20251215T133112Z
DTSTART:20260408T180000Z
DTEND:20260408T183000Z
SUMMARY:Praktika am Mittwoch
DESCRIPTION:Freies Tanzen mit Unterstützung der Lehrenden
URL:http://das-atico.de/events/2012
END:VEVENT
END:VCALENDAR