BEGIN:VCALENDAR
VERSION:2.0
PRODID:-//Drupal//recurring_events_ical//2.0//EN
BEGIN:VEVENT
UID:2b02db33-fb74-4412-9f49-9526033101f8@das-atico.de
DTSTAMP:20251215T133112Z
DTSTART:20260401T180000Z
DTEND:20260401T183000Z
SUMMARY:Praktika am Mittwoch
DESCRIPTION:Freies Tanzen mit Unterstützung der Lehrenden
URL:http://das-atico.de/events/2011
END:VEVENT
END:VCALENDAR