BEGIN:VCALENDAR
VERSION:2.0
PRODID:-//Drupal//recurring_events_ical//2.0//EN
BEGIN:VEVENT
UID:d52a328b-0650-4f73-bf59-dcbbcbf130ea@das-atico.de
DTSTAMP:20251215T132846Z
DTSTART:20260511T163000Z
DTEND:20260511T183000Z
SUMMARY:Tango am Montag
DESCRIPTION:Für jeden von Anfänger bis Fortgeschritten
URL:http://das-atico.de/events/1968
END:VEVENT
END:VCALENDAR