BEGIN:VCALENDAR
VERSION:2.0
PRODID:-//Drupal//recurring_events_ical//2.0//EN
BEGIN:VEVENT
UID:3b3f5626-17c1-4a23-9ba2-c32ad1503ba8@das-atico.de
DTSTAMP:20251215T132846Z
DTSTART:20260504T163000Z
DTEND:20260504T183000Z
SUMMARY:Tango am Montag
DESCRIPTION:Für jeden von Anfänger bis Fortgeschritten
URL:http://das-atico.de/events/1967
END:VEVENT
END:VCALENDAR