BEGIN:VCALENDAR
VERSION:2.0
PRODID:-//Drupal//recurring_events_ical//2.0//EN
BEGIN:VEVENT
UID:fae1738c-141f-42e1-897e-d7e96a2033ec@das-atico.de
DTSTAMP:20251215T132846Z
DTSTART:20260427T163000Z
DTEND:20260427T183000Z
SUMMARY:Tango am Montag
DESCRIPTION:Für jeden von Anfänger bis Fortgeschritten
URL:http://das-atico.de/events/1966
END:VEVENT
END:VCALENDAR