BEGIN:VCALENDAR
VERSION:2.0
PRODID:-//Drupal//recurring_events_ical//2.0//EN
BEGIN:VEVENT
UID:3fa64eb7-3de3-45bd-939f-a401d708df12@das-atico.de
DTSTAMP:20251215T132846Z
DTSTART:20260420T163000Z
DTEND:20260420T183000Z
SUMMARY:Tango am Montag
DESCRIPTION:Für jeden von Anfänger bis Fortgeschritten
URL:http://das-atico.de/events/1965
END:VEVENT
END:VCALENDAR