BEGIN:VCALENDAR
VERSION:2.0
PRODID:-//Drupal//recurring_events_ical//2.0//EN
BEGIN:VEVENT
UID:4a955ed6-38fe-4456-b377-2c1277e27db1@das-atico.de
DTSTAMP:20251215T132846Z
DTSTART:20260413T163000Z
DTEND:20260413T183000Z
SUMMARY:Tango am Montag
DESCRIPTION:Für jeden von Anfänger bis Fortgeschritten
URL:http://das-atico.de/events/1964
END:VEVENT
END:VCALENDAR