BEGIN:VCALENDAR
VERSION:2.0
PRODID:-//Drupal//recurring_events_ical//2.0//EN
BEGIN:VEVENT
UID:e41b6ba6-76d8-49ed-98f3-466cbf2fcb15@das-atico.de
DTSTAMP:20251215T132846Z
DTSTART:20260406T163000Z
DTEND:20260406T183000Z
SUMMARY:Tango am Montag
DESCRIPTION:Für jeden von Anfänger bis Fortgeschritten
URL:http://das-atico.de/events/1963
END:VEVENT
END:VCALENDAR